BEGIN:VCALENDAR
PRODID:-//AT Content Types//AT Event//EN
VERSION:1.0
BEGIN:VEVENT
DTSTART:20100930T090000Z
DTEND:20100930T103000Z
DCREATED:20100514T204049Z
UID:ATEvent-d65c1cd24279b0d702a4a2a2256ba0e4
SEQUENCE:0
LAST-MODIFIED:20100608T180526Z
SUMMARY:Open IT Analysts summit\: The 2010 barometer of Open Source
DESCRIPTION:With major mergers and acquisitions\, 2010 appears to be a
  life-changing year in the Open Source Industry. For the first time\, 
 find out more about the comparative visions and predictions from the l
 eading Open Source analysts. By invitation only.
LOCATION:Open World Forum - Paris - BY INVITATION ONLY
PRIORITY:3
TRANSP:0
END:VEVENT
END:VCALENDAR
