BEGIN:VCALENDAR
PRODID:-//AT Content Types//AT Event//EN
VERSION:1.0
BEGIN:VEVENT
DTSTART:20100930T090000Z
DTEND:20100930T140000Z
DCREATED:20100514T192431Z
UID:ATEvent-8cabcb887892c0ccf2fbfde784234257
SEQUENCE:0
LAST-MODIFIED:20100718T171139Z
SUMMARY:Open Communities\: 21st century organizations
DESCRIPTION:While Free and Open Source Software contributes to the res
 tructuring of the software industry\, FLOSS communities are changing t
 he rules of the game. A special breed of organization\, FLOSS communit
 ies outperform conventional companies in many ways. The Open Communiti
 es track will discuss how these organizations operate and provide valu
 able insights for community members and company managers alike.
LOCATION:Open World Forum - Paris
PRIORITY:3
TRANSP:0
END:VEVENT
END:VCALENDAR
