BEGIN:VCALENDAR
VERSION:2.0
PRODID:-//hacksw/handcal//NONSGML v1.0//EN
BEGIN:VEVENT
DTSTART:20110922T030000Z
DTEND:20110922T032000Z
SUMMARY:Open Source Processes: Lessons for Industry
LOCATION:EUROSITE GEORGES V Bruxelles
DESCRIPTION:
END:VEVENT
END:VCALENDAR
