BEGIN:VCALENDAR
VERSION:2.0
PRODID:-//hacksw/handcal//NONSGML v1.0//EN
BEGIN:VEVENT
DTSTART:20110924T105000Z
DTEND:20110924T113500Z
SUMMARY:Lua and its ecosystem
LOCATION:EUROSITE GEORGES V Namur
DESCRIPTION:Présentation du langage Lua et de ses aspects communautaires.

http://www.lua.org
END:VEVENT
END:VCALENDAR
