BEGIN:VCALENDAR
VERSION:2.0
PRODID:-//hacksw/handcal//NONSGML v1.0//EN
BEGIN:VEVENT
DTSTART:20110924T013000Z
DTEND:20110924T015500Z
SUMMARY:Searching with Redis
LOCATION:EUROSITE GEORGES V Namur
DESCRIPTION:We will see how Redis' new Lua scripting capabilities allow us to implement an efficient in-memory inverted index for real-time document search.
END:VEVENT
END:VCALENDAR
