BEGIN:VCALENDAR
VERSION:2.0
PRODID:-//hacksw/handcal//NONSGML v1.0//EN
BEGIN:VEVENT
DTSTART:20110924T034000Z
DTEND:20110924T040500Z
SUMMARY:LuaJIT
LOCATION:EUROSITE GEORGES V Namur
DESCRIPTION:Présentation de LuaJIT, une implémentation du langage Lua utilisant un compilateur JIT et ayant un mécanisme d'extension FFI pour les bibliothèques natives. Les performances obtenues sont exceptionnelles pour un langage dynamique.

http://www.luajit.org/
END:VEVENT
END:VCALENDAR
