BEGIN:VCALENDAR
VERSION:2.0
PRODID:-//hacksw/handcal//NONSGML v1.0//EN
BEGIN:VEVENT
DTSTART:20110924T052000Z
DTEND:20110924T060500Z
SUMMARY:La gestion des blocs en Perl 6
LOCATION:EUROSITE GEORGES V Namur
DESCRIPTION:En Perl 6, la notion de bloc est fondamentale.

Les blocs permettent une structuration du langage et autorisent un grand éventail de possibilités.

Le but de cette présentation est d'en étudier toutes les caractéristiques sur de nombreux exemples.
END:VEVENT
END:VCALENDAR
