BEGIN:VCALENDAR
VERSION:2.0
PRODID:-//hacksw/handcal//NONSGML v1.0//EN
BEGIN:VEVENT
DTSTART:20110922T010000Z
DTEND:20110922T040000Z
SUMMARY:Meet MeeGo: the credible alternative rising in the mobile OSes environment
LOCATION:EUROSITE GEORGES V Namur
DESCRIPTION:Is the mobile and embedded operating system a three way race ? Between Google, Apple and Microsoft ? Linux has already proven it can rapidly enter markets where it was not present before. And doing so allows to a greater competition and innovation. It took time but now we have a real, and completely open alternative.
END:VEVENT
END:VCALENDAR
