BEGIN:VCALENDAR
VERSION:2.0
PRODID:-//hacksw/handcal//NONSGML v1.0//EN
BEGIN:VEVENT
DTSTART:20110923T121500Z
DTEND:20110923T123000Z
SUMMARY:Vous avez dit "enseignement de l'informatique" au lycée ?
LOCATION:EUROSITE GEORGES V Auditorium
DESCRIPTION:
END:VEVENT
END:VCALENDAR
