BEGIN:VCALENDAR
VERSION:2.0
PRODID:-//hacksw/handcal//NONSGML v1.0//EN
BEGIN:VEVENT
DTSTART:20110922T113000Z
DTEND:20110922T115000Z
SUMMARY:How to help development team manage FOSS during the whole industrial process.
LOCATION:EUROSITE GEORGES V Bruxelles
DESCRIPTION:
END:VEVENT
END:VCALENDAR
