BEGIN:VCALENDAR
VERSION:2.0
PRODID:-//hacksw/handcal//NONSGML v1.0//EN
BEGIN:VEVENT
DTSTART:20110923T030000Z
DTEND:20110923T040000Z
SUMMARY:A platform approach to Enterprise Content Management with Eclipse Apricot, CMIS and Nuxeo EP
LOCATION:EUROSITE GEORGES V Milan
DESCRIPTION:
END:VEVENT
END:VCALENDAR
