BEGIN:VCALENDAR
VERSION:2.0
PRODID:-//hacksw/handcal//NONSGML v1.0//EN
BEGIN:VEVENT
DTSTART:20110924T110000Z
DTEND:20110924T120000Z
SUMMARY:Workshop Archipel
LOCATION:EUROSITE GEORGES V Amsterdam
DESCRIPTION:
END:VEVENT
END:VCALENDAR
