BEGIN:VCALENDAR
VERSION:2.0
PRODID:-//hacksw/handcal//NONSGML v1.0//EN
BEGIN:VEVENT
DTSTART:20110922T010000Z
DTEND:20110922T040000Z
SUMMARY:Open Data Summit: a survey of innovative projects and actors in the open data: local achievements, technology providers, return of experience
LOCATION:EUROSITE GEORGES V Milan
DESCRIPTION:
END:VEVENT
END:VCALENDAR
