BEGIN:VCALENDAR
VERSION:2.0
PRODID:-//hacksw/handcal//NONSGML v1.0//EN
BEGIN:VEVENT
DTSTART:20110922T010000Z
DTEND:20110922T030000Z
SUMMARY:Open Cloud in Europe:  When interoperability matters
LOCATION:EUROSITE GEORGES V Amsterdam
DESCRIPTION:
END:VEVENT
END:VCALENDAR
