BEGIN:VCALENDAR
VERSION:2.0
PRODID:-//hacksw/handcal//NONSGML v1.0//EN
BEGIN:VEVENT
DTSTART:20110923T043000Z
DTEND:20110923T051500Z
SUMMARY:Perlude, les avantages du shell scripting avec la puissance de perl
LOCATION:EUROSITE GEORGES V Dublin
DESCRIPTION:Le pipe est un puissant élément pour la création de fonctions concises et réutilisables, le shell scripting reste souvent intéressant pour de petits problèmes mais gère mal la complexité.

À l'opposé, les langages dynamiques apportent plétore d'outils de gestion de cette complexité (multi-paradigmes, modules et bibliothèques, gestion de structures complexes, etc.) mais pêchent par leur manque de concision.

En utilisant les fonctions anonymes (closures) et l'implicité, Perlude apporte un mécanisme comparable a celui des pipes. Perlude permet ainsi de bénéficier du meilleur des deux mondes.
END:VEVENT
END:VCALENDAR
