BEGIN:VCALENDAR
VERSION:2.0
PRODID:-//hacksw/handcal//NONSGML v1.0//EN
BEGIN:VEVENT
DTSTART:20110923T052000Z
DTEND:20110923T060500Z
SUMMARY:GObject Introspection, ou la plate-forme GNOME depuis d’autres langages que C
LOCATION:EUROSITE GEORGES V Dublin
DESCRIPTION:GObject Introspection est un project qui permet d’utiliser les bibliothèques basées sur GObject depuis différents langages, sans avoir à générer des bindings pour ce langage. Il est d’ores et déjà possible d’écrire des programmes en Python, Javascript, Vala, et des expérimentations ont lieu pour Lua et Mono.

Entre autres utilisations, cela permet d’utiliser la plate-forme GNOME aisément depuis ces langages, facilitant l’écriture d’extensions pour applications, ou tout simplement d’une application complète.

Cette présentation introduira la technologie en général et présentera quelques exemples concret d’utilisation de GObject Introspection.
END:VEVENT
END:VCALENDAR
