BEGIN:VCALENDAR
VERSION:2.0
PRODID:-//hacksw/handcal//NONSGML v1.0//EN
BEGIN:VEVENT
DTSTART:20110923T121500Z
DTEND:20110923T010000Z
SUMMARY:Industrialiser PHP
LOCATION:EUROSITE GEORGES V Berlin
DESCRIPTION:
END:VEVENT
END:VCALENDAR
