BEGIN:VCALENDAR
VERSION:2.0
PRODID:-//hacksw/handcal//NONSGML v1.0//EN
BEGIN:VEVENT
DTSTART:20110923T023000Z
DTEND:20110923T040000Z
SUMMARY:Les logiciels libres dans l'éducation
LOCATION:EUROSITE GEORGES V Namur
DESCRIPTION:
END:VEVENT
END:VCALENDAR
