BEGIN:VCALENDAR
VERSION:2.0
PRODID:-//hacksw/handcal//NONSGML v1.0//EN
BEGIN:VEVENT
DTSTART:20110922T045000Z
DTEND:20110922T051000Z
SUMMARY:The OpenHardware movement - The community is moving from software to hardware
LOCATION:EUROSITE GEORGES V Bruxelles
DESCRIPTION:
END:VEVENT
END:VCALENDAR
