BEGIN:VCALENDAR
VERSION:2.0
PRODID:-//hacksw/handcal//NONSGML v1.0//EN
BEGIN:VEVENT
DTSTART:20110923T100000Z
DTEND:20110923T104500Z
SUMMARY:SUSE Linux strategic differentiators
LOCATION:EUROSITE GEORGES V Namur
DESCRIPTION:Why should you consider SUSE as a real alternative for your preferred Linux distribution ?
END:VEVENT
END:VCALENDAR
