BEGIN:VCALENDAR
VERSION:2.0
PRODID:-//hacksw/handcal//NONSGML v1.0//EN
BEGIN:VEVENT
DTSTART:20110923T033000Z
DTEND:20110923T041500Z
SUMMARY:Mettre en place Drupal 
LOCATION:EUROSITE GEORGES V Berlin
DESCRIPTION:
END:VEVENT
END:VCALENDAR
