BEGIN:VCALENDAR
VERSION:2.0
PRODID:-//hacksw/handcal//NONSGML v1.0//EN
BEGIN:VEVENT
DTSTART:20110923T010000Z
DTEND:20110923T023000Z
SUMMARY:Enseignement de l'informatique au lycée et logiciels libres
LOCATION:EUROSITE GEORGES V Namur
DESCRIPTION:
END:VEVENT
END:VCALENDAR
